BEGIN:VCALENDAR
VERSION:2.0
PRODID:-// - ECPv6.15.15//NONSGML v1.0//EN
CALSCALE:GREGORIAN
METHOD:PUBLISH
X-ORIGINAL-URL:https://stlouispdf.org
X-WR-CALDESC:Events for 
REFRESH-INTERVAL;VALUE=DURATION:PT1H
X-Robots-Tag:noindex
X-PUBLISHED-TTL:PT1H
BEGIN:VTIMEZONE
TZID:UTC
BEGIN:STANDARD
TZOFFSETFROM:+0000
TZOFFSETTO:+0000
TZNAME:UTC
DTSTART:20240101T000000
END:STANDARD
END:VTIMEZONE
BEGIN:VTIMEZONE
TZID:America/New_York
BEGIN:DAYLIGHT
TZOFFSETFROM:-0500
TZOFFSETTO:-0400
TZNAME:EDT
DTSTART:20240310T070000
END:DAYLIGHT
BEGIN:STANDARD
TZOFFSETFROM:-0400
TZOFFSETTO:-0500
TZNAME:EST
DTSTART:20241103T060000
END:STANDARD
BEGIN:DAYLIGHT
TZOFFSETFROM:-0500
TZOFFSETTO:-0400
TZNAME:EDT
DTSTART:20250309T070000
END:DAYLIGHT
BEGIN:STANDARD
TZOFFSETFROM:-0400
TZOFFSETTO:-0500
TZNAME:EST
DTSTART:20251102T060000
END:STANDARD
BEGIN:DAYLIGHT
TZOFFSETFROM:-0500
TZOFFSETTO:-0400
TZNAME:EDT
DTSTART:20260308T070000
END:DAYLIGHT
BEGIN:STANDARD
TZOFFSETFROM:-0400
TZOFFSETTO:-0500
TZNAME:EST
DTSTART:20261101T060000
END:STANDARD
END:VTIMEZONE
BEGIN:VEVENT
DTSTART;TZID=UTC:20251104T180000
DTEND;TZID=UTC:20251104T220000
DTSTAMP:20260421T202058
CREATED:20250618T170649Z
LAST-MODIFIED:20250618T170649Z
UID:1792-1762279200-1762293600@stlouispdf.org
SUMMARY:2025 Fellowship Banquet
DESCRIPTION:
URL:https://stlouispdf.org/event/2025-fellowship-banquet/
LOCATION:Missouri Athletic Club\, 405 Washington Ave\, St. Louis\, MO\, 63102
END:VEVENT
BEGIN:VEVENT
DTSTART;TZID=America/New_York:20250520T093000
DTEND;TZID=America/New_York:20250520T170000
DTSTAMP:20260421T202058
CREATED:20250404T145140Z
LAST-MODIFIED:20250404T145140Z
UID:1772-1747733400-1747760400@stlouispdf.org
SUMMARY:2025 Golf Tournament
DESCRIPTION:Annual PDF/WCCA Golf Tournament Tuesday\, May 20\, 2025 at Whitmoor Country Club in St. Charles. \nRegistration opens at 9:30am\, tee-off at 10:30am with the format being a four man scramble. \nBeverages will be available on the course during play\, and a box lunch will be provided prior to tee off. \nFollowing golf\, please enjoy an open bar at 3:30 p.m. followed by dinner at 4:00 p.m. with awards\, prizes\, and the John H. Hinrichs PDCA Scholarship Auction presented after dinner. \nClick HERE for the registration form.
URL:https://stlouispdf.org/event/2025-golf-tournament/
LOCATION:Whitmoor Country Club
END:VEVENT
BEGIN:VEVENT
DTSTART;TZID=America/New_York:20250410T113000
DTEND;TZID=America/New_York:20250410T130000
DTSTAMP:20260421T202058
CREATED:20250404T142836Z
LAST-MODIFIED:20250404T142836Z
UID:1770-1744284600-1744290000@stlouispdf.org
SUMMARY:April 2025 Associations Meeting
DESCRIPTION:Please join us for the monthly meeting of the associations. Our guest speaker this month is Jim Faul\, an attorney at Hartnett Reyes-Jones\, LLC. Jim will provide the latest information that contractors need to know about Paid Sick Leave in Missouri\, which was established with the passing of Proposition A in November. Hope to see you there! \nLocation: Missouri Athletic Club West\, 1777 Des Peres Rd\, Town and Country\, MO 63131 \nDate and time: Thu\, Apr 10\, 2025 11:30 AM – 1:00 PM \n  \nClick HERE to register
URL:https://stlouispdf.org/event/april-2025-associations-meeting/
LOCATION:Missouri Athletic Club West\, 1777 Des Peres Road\, Town and Country\, MO\, 63131\, United States
END:VEVENT
END:VCALENDAR